BEGIN:VCALENDAR
VERSION:2.0
PRODID:-//Caribbean Datacenter Association - ECPv6.15.17//NONSGML v1.0//EN
CALSCALE:GREGORIAN
METHOD:PUBLISH
X-ORIGINAL-URL:https://caribbeandatacenters.com
X-WR-CALDESC:Events for Caribbean Datacenter Association
REFRESH-INTERVAL;VALUE=DURATION:PT1H
X-Robots-Tag:noindex
X-PUBLISHED-TTL:PT1H
BEGIN:VTIMEZONE
TZID:UTC
BEGIN:STANDARD
TZOFFSETFROM:+0000
TZOFFSETTO:+0000
TZNAME:UTC
DTSTART:20250101T000000
END:STANDARD
END:VTIMEZONE
BEGIN:VEVENT
DTSTART;TZID=UTC:20260414T080000
DTEND;TZID=UTC:20260416T160000
DTSTAMP:20260424T100923
CREATED:20260330T145943Z
LAST-MODIFIED:20260331T112324Z
UID:2305-1776153600-1776355200@caribbeandatacenters.com
SUMMARY:The Resilient Archipelago: Strengthening the Caribbean’s Digital Core
DESCRIPTION:For more information about the Resilient Archipelago – strengthening the Caribbean’s digital core — Click Here
URL:https://caribbeandatacenters.com/event/the-resilient-archipelago-strengthening-the-caribbeans-digital-core/
ATTACH;FMTTYPE=image/jpeg:https://caribbeandatacenters.com/wp-content/uploads/2026/03/WhatsApp-Image-2026-03-27-at-1.53.31-PM.jpeg
END:VEVENT
BEGIN:VEVENT
DTSTART;VALUE=DATE:20260714
DTEND;VALUE=DATE:20260717
DTSTAMP:20260424T100923
CREATED:20260421T140901Z
LAST-MODIFIED:20260421T153311Z
UID:2320-1783987200-1784246399@caribbeandatacenters.com
SUMMARY:DCPI-LATAM 2026
DESCRIPTION:For more information about DCPI-LATM 2026\, click here
URL:https://caribbeandatacenters.com/event/dcpi-latam-2026/
ATTACH;FMTTYPE=image/png:https://caribbeandatacenters.com/wp-content/uploads/2026/04/DCPI-LATAM-2026-Partner-Digital-Caribbean-Blue-Logo.png
END:VEVENT
BEGIN:VEVENT
DTSTART;VALUE=DATE:20260915
DTEND;VALUE=DATE:20260917
DTSTAMP:20260424T100923
CREATED:20260421T143103Z
LAST-MODIFIED:20260421T153937Z
UID:2325-1789430400-1789603199@caribbeandatacenters.com
SUMMARY:CARIF 2026 10th Caribbean Infrastructure Forum
DESCRIPTION:For more information about the CARIF 2026 – 10th Caribbean Infrastructure Forum\, click here
URL:https://caribbeandatacenters.com/event/carif-2026-10th-caribbean-infrastructure-forum/
ATTACH;FMTTYPE=image/jpeg:https://caribbeandatacenters.com/wp-content/uploads/2026/04/CARIF-2026-Partner-Digital-Caribbean-Blue-Logo.jpg
END:VEVENT
END:VCALENDAR