BEGIN:VCALENDAR
VERSION:2.0
PRODID:-//Caribbean Datacenter Association - ECPv6.15.17//NONSGML v1.0//EN
CALSCALE:GREGORIAN
METHOD:PUBLISH
X-WR-CALNAME:Caribbean Datacenter Association
X-ORIGINAL-URL:https://caribbeandatacenters.com
X-WR-CALDESC:Events for Caribbean Datacenter Association
REFRESH-INTERVAL;VALUE=DURATION:PT1H
X-Robots-Tag:noindex
X-PUBLISHED-TTL:PT1H
BEGIN:VTIMEZONE
TZID:UTC
BEGIN:STANDARD
TZOFFSETFROM:+0000
TZOFFSETTO:+0000
TZNAME:UTC
DTSTART:20240101T000000
END:STANDARD
END:VTIMEZONE
BEGIN:VEVENT
DTSTART;VALUE=DATE:20251014
DTEND;VALUE=DATE:20251017
DTSTAMP:20260420T142418
CREATED:20250805T165331Z
LAST-MODIFIED:20250806T153347Z
UID:1916-1760400000-1760659199@caribbeandatacenters.com
SUMMARY:International Business Conference (IBC) Guyana 2025
DESCRIPTION:IBC is where Guyana and Suriname meet the world.
URL:https://caribbeandatacenters.com/event/international-business-conference-ibc-guyana-2025/
LOCATION:Marriott Hotel\, Georgetown\, Guyana
ATTACH;FMTTYPE=image/jpeg:https://caribbeandatacenters.com/wp-content/uploads/2025/08/IBC-Guyana-2025-logo.jpg
END:VEVENT
END:VCALENDAR